BEGIN:VCALENDAR
VERSION:2.0
PRODID:-//Welcome to the Baja Pony Express - ECPv6.15.20//NONSGML v1.0//EN
CALSCALE:GREGORIAN
METHOD:PUBLISH
X-WR-CALNAME:Welcome to the Baja Pony Express
X-ORIGINAL-URL:https://www.thebajaponyexpress.com/wp
X-WR-CALDESC:Events for Welcome to the Baja Pony Express
REFRESH-INTERVAL;VALUE=DURATION:PT1H
X-Robots-Tag:noindex
X-PUBLISHED-TTL:PT1H
BEGIN:VTIMEZONE
TZID:America/Phoenix
BEGIN:STANDARD
TZOFFSETFROM:-0700
TZOFFSETTO:-0700
TZNAME:MST
DTSTART:20250101T000000
END:STANDARD
END:VTIMEZONE
BEGIN:VEVENT
DTSTART;TZID=America/Phoenix:20260423T100000
DTEND;TZID=America/Phoenix:20260423T110000
DTSTAMP:20260420T045200
CREATED:20260305T195013Z
LAST-MODIFIED:20260306T155605Z
UID:10004694-1776938400-1776942000@www.thebajaponyexpress.com
SUMMARY:Al-Anon Family Groups Meeting-Spa Buenavista Vista
DESCRIPTION:Friends and family of alcoholics.  Link to map
URL:https://www.thebajaponyexpress.com/wp/event/al-anon-family-groups-meeting-spa-buenavista-vista/2026-04-23/
CATEGORIES:BPE Calendar
ATTACH;FMTTYPE=image/jpeg:https://www.thebajaponyexpress.com/wp/wp-content/uploads/2026/03/IMG_0013-1.jpeg
END:VEVENT
BEGIN:VEVENT
DTSTART;TZID=America/Phoenix:20260430T100000
DTEND;TZID=America/Phoenix:20260430T110000
DTSTAMP:20260420T045200
CREATED:20260305T195013Z
LAST-MODIFIED:20260306T155605Z
UID:10004695-1777543200-1777546800@www.thebajaponyexpress.com
SUMMARY:Al-Anon Family Groups Meeting-Spa Buenavista Vista
DESCRIPTION:Friends and family of alcoholics.  Link to map
URL:https://www.thebajaponyexpress.com/wp/event/al-anon-family-groups-meeting-spa-buenavista-vista/2026-04-30/
CATEGORIES:BPE Calendar
ATTACH;FMTTYPE=image/jpeg:https://www.thebajaponyexpress.com/wp/wp-content/uploads/2026/03/IMG_0013-1.jpeg
END:VEVENT
BEGIN:VEVENT
DTSTART;TZID=America/Phoenix:20260507T100000
DTEND;TZID=America/Phoenix:20260507T110000
DTSTAMP:20260420T045200
CREATED:20260305T195013Z
LAST-MODIFIED:20260306T155605Z
UID:10004696-1778148000-1778151600@www.thebajaponyexpress.com
SUMMARY:Al-Anon Family Groups Meeting-Spa Buenavista Vista
DESCRIPTION:Friends and family of alcoholics.  Link to map
URL:https://www.thebajaponyexpress.com/wp/event/al-anon-family-groups-meeting-spa-buenavista-vista/2026-05-07/
CATEGORIES:BPE Calendar
ATTACH;FMTTYPE=image/jpeg:https://www.thebajaponyexpress.com/wp/wp-content/uploads/2026/03/IMG_0013-1.jpeg
END:VEVENT
BEGIN:VEVENT
DTSTART;TZID=America/Phoenix:20260514T100000
DTEND;TZID=America/Phoenix:20260514T110000
DTSTAMP:20260420T045200
CREATED:20260305T195013Z
LAST-MODIFIED:20260306T155605Z
UID:10004697-1778752800-1778756400@www.thebajaponyexpress.com
SUMMARY:Al-Anon Family Groups Meeting-Spa Buenavista Vista
DESCRIPTION:Friends and family of alcoholics.  Link to map
URL:https://www.thebajaponyexpress.com/wp/event/al-anon-family-groups-meeting-spa-buenavista-vista/2026-05-14/
CATEGORIES:BPE Calendar
ATTACH;FMTTYPE=image/jpeg:https://www.thebajaponyexpress.com/wp/wp-content/uploads/2026/03/IMG_0013-1.jpeg
END:VEVENT
BEGIN:VEVENT
DTSTART;TZID=America/Phoenix:20260521T100000
DTEND;TZID=America/Phoenix:20260521T110000
DTSTAMP:20260420T045200
CREATED:20260305T195013Z
LAST-MODIFIED:20260306T155605Z
UID:10004698-1779357600-1779361200@www.thebajaponyexpress.com
SUMMARY:Al-Anon Family Groups Meeting-Spa Buenavista Vista
DESCRIPTION:Friends and family of alcoholics.  Link to map
URL:https://www.thebajaponyexpress.com/wp/event/al-anon-family-groups-meeting-spa-buenavista-vista/2026-05-21/
CATEGORIES:BPE Calendar
ATTACH;FMTTYPE=image/jpeg:https://www.thebajaponyexpress.com/wp/wp-content/uploads/2026/03/IMG_0013-1.jpeg
END:VEVENT
BEGIN:VEVENT
DTSTART;TZID=America/Phoenix:20260528T100000
DTEND;TZID=America/Phoenix:20260528T110000
DTSTAMP:20260420T045200
CREATED:20260305T195013Z
LAST-MODIFIED:20260306T155605Z
UID:10004699-1779962400-1779966000@www.thebajaponyexpress.com
SUMMARY:Al-Anon Family Groups Meeting-Spa Buenavista Vista
DESCRIPTION:Friends and family of alcoholics.  Link to map
URL:https://www.thebajaponyexpress.com/wp/event/al-anon-family-groups-meeting-spa-buenavista-vista/2026-05-28/
CATEGORIES:BPE Calendar
ATTACH;FMTTYPE=image/jpeg:https://www.thebajaponyexpress.com/wp/wp-content/uploads/2026/03/IMG_0013-1.jpeg
END:VEVENT
BEGIN:VEVENT
DTSTART;TZID=America/Phoenix:20260604T100000
DTEND;TZID=America/Phoenix:20260604T110000
DTSTAMP:20260420T045200
CREATED:20260305T195013Z
LAST-MODIFIED:20260306T155605Z
UID:10004700-1780567200-1780570800@www.thebajaponyexpress.com
SUMMARY:Al-Anon Family Groups Meeting-Spa Buenavista Vista
DESCRIPTION:Friends and family of alcoholics.  Link to map
URL:https://www.thebajaponyexpress.com/wp/event/al-anon-family-groups-meeting-spa-buenavista-vista/2026-06-04/
CATEGORIES:BPE Calendar
ATTACH;FMTTYPE=image/jpeg:https://www.thebajaponyexpress.com/wp/wp-content/uploads/2026/03/IMG_0013-1.jpeg
END:VEVENT
BEGIN:VEVENT
DTSTART;TZID=America/Phoenix:20260611T100000
DTEND;TZID=America/Phoenix:20260611T110000
DTSTAMP:20260420T045200
CREATED:20260305T195013Z
LAST-MODIFIED:20260306T155605Z
UID:10004701-1781172000-1781175600@www.thebajaponyexpress.com
SUMMARY:Al-Anon Family Groups Meeting-Spa Buenavista Vista
DESCRIPTION:Friends and family of alcoholics.  Link to map
URL:https://www.thebajaponyexpress.com/wp/event/al-anon-family-groups-meeting-spa-buenavista-vista/2026-06-11/
CATEGORIES:BPE Calendar
ATTACH;FMTTYPE=image/jpeg:https://www.thebajaponyexpress.com/wp/wp-content/uploads/2026/03/IMG_0013-1.jpeg
END:VEVENT
BEGIN:VEVENT
DTSTART;TZID=America/Phoenix:20260618T100000
DTEND;TZID=America/Phoenix:20260618T110000
DTSTAMP:20260420T045200
CREATED:20260305T195013Z
LAST-MODIFIED:20260306T155605Z
UID:10004702-1781776800-1781780400@www.thebajaponyexpress.com
SUMMARY:Al-Anon Family Groups Meeting-Spa Buenavista Vista
DESCRIPTION:Friends and family of alcoholics.  Link to map
URL:https://www.thebajaponyexpress.com/wp/event/al-anon-family-groups-meeting-spa-buenavista-vista/2026-06-18/
CATEGORIES:BPE Calendar
ATTACH;FMTTYPE=image/jpeg:https://www.thebajaponyexpress.com/wp/wp-content/uploads/2026/03/IMG_0013-1.jpeg
END:VEVENT
BEGIN:VEVENT
DTSTART;TZID=America/Phoenix:20260625T100000
DTEND;TZID=America/Phoenix:20260625T110000
DTSTAMP:20260420T045200
CREATED:20260305T195013Z
LAST-MODIFIED:20260306T155605Z
UID:10004703-1782381600-1782385200@www.thebajaponyexpress.com
SUMMARY:Al-Anon Family Groups Meeting-Spa Buenavista Vista
DESCRIPTION:Friends and family of alcoholics.  Link to map
URL:https://www.thebajaponyexpress.com/wp/event/al-anon-family-groups-meeting-spa-buenavista-vista/2026-06-25/
CATEGORIES:BPE Calendar
ATTACH;FMTTYPE=image/jpeg:https://www.thebajaponyexpress.com/wp/wp-content/uploads/2026/03/IMG_0013-1.jpeg
END:VEVENT
BEGIN:VEVENT
DTSTART;TZID=America/Phoenix:20260702T100000
DTEND;TZID=America/Phoenix:20260702T110000
DTSTAMP:20260420T045200
CREATED:20260305T195013Z
LAST-MODIFIED:20260306T155605Z
UID:10004704-1782986400-1782990000@www.thebajaponyexpress.com
SUMMARY:Al-Anon Family Groups Meeting-Spa Buenavista Vista
DESCRIPTION:Friends and family of alcoholics.  Link to map
URL:https://www.thebajaponyexpress.com/wp/event/al-anon-family-groups-meeting-spa-buenavista-vista/2026-07-02/
CATEGORIES:BPE Calendar
ATTACH;FMTTYPE=image/jpeg:https://www.thebajaponyexpress.com/wp/wp-content/uploads/2026/03/IMG_0013-1.jpeg
END:VEVENT
BEGIN:VEVENT
DTSTART;TZID=America/Phoenix:20260709T100000
DTEND;TZID=America/Phoenix:20260709T110000
DTSTAMP:20260420T045200
CREATED:20260305T195013Z
LAST-MODIFIED:20260306T155605Z
UID:10004705-1783591200-1783594800@www.thebajaponyexpress.com
SUMMARY:Al-Anon Family Groups Meeting-Spa Buenavista Vista
DESCRIPTION:Friends and family of alcoholics.  Link to map
URL:https://www.thebajaponyexpress.com/wp/event/al-anon-family-groups-meeting-spa-buenavista-vista/2026-07-09/
CATEGORIES:BPE Calendar
ATTACH;FMTTYPE=image/jpeg:https://www.thebajaponyexpress.com/wp/wp-content/uploads/2026/03/IMG_0013-1.jpeg
END:VEVENT
BEGIN:VEVENT
DTSTART;TZID=America/Phoenix:20260716T100000
DTEND;TZID=America/Phoenix:20260716T110000
DTSTAMP:20260420T045200
CREATED:20260305T195013Z
LAST-MODIFIED:20260306T155605Z
UID:10004706-1784196000-1784199600@www.thebajaponyexpress.com
SUMMARY:Al-Anon Family Groups Meeting-Spa Buenavista Vista
DESCRIPTION:Friends and family of alcoholics.  Link to map
URL:https://www.thebajaponyexpress.com/wp/event/al-anon-family-groups-meeting-spa-buenavista-vista/2026-07-16/
CATEGORIES:BPE Calendar
ATTACH;FMTTYPE=image/jpeg:https://www.thebajaponyexpress.com/wp/wp-content/uploads/2026/03/IMG_0013-1.jpeg
END:VEVENT
BEGIN:VEVENT
DTSTART;TZID=America/Phoenix:20260723T100000
DTEND;TZID=America/Phoenix:20260723T110000
DTSTAMP:20260420T045200
CREATED:20260305T195013Z
LAST-MODIFIED:20260306T155605Z
UID:10004707-1784800800-1784804400@www.thebajaponyexpress.com
SUMMARY:Al-Anon Family Groups Meeting-Spa Buenavista Vista
DESCRIPTION:Friends and family of alcoholics.  Link to map
URL:https://www.thebajaponyexpress.com/wp/event/al-anon-family-groups-meeting-spa-buenavista-vista/2026-07-23/
CATEGORIES:BPE Calendar
ATTACH;FMTTYPE=image/jpeg:https://www.thebajaponyexpress.com/wp/wp-content/uploads/2026/03/IMG_0013-1.jpeg
END:VEVENT
BEGIN:VEVENT
DTSTART;TZID=America/Phoenix:20260730T100000
DTEND;TZID=America/Phoenix:20260730T110000
DTSTAMP:20260420T045200
CREATED:20260305T195013Z
LAST-MODIFIED:20260306T155605Z
UID:10004708-1785405600-1785409200@www.thebajaponyexpress.com
SUMMARY:Al-Anon Family Groups Meeting-Spa Buenavista Vista
DESCRIPTION:Friends and family of alcoholics.  Link to map
URL:https://www.thebajaponyexpress.com/wp/event/al-anon-family-groups-meeting-spa-buenavista-vista/2026-07-30/
CATEGORIES:BPE Calendar
ATTACH;FMTTYPE=image/jpeg:https://www.thebajaponyexpress.com/wp/wp-content/uploads/2026/03/IMG_0013-1.jpeg
END:VEVENT
BEGIN:VEVENT
DTSTART;TZID=America/Phoenix:20260806T100000
DTEND;TZID=America/Phoenix:20260806T110000
DTSTAMP:20260420T045200
CREATED:20260305T195013Z
LAST-MODIFIED:20260306T155605Z
UID:10004709-1786010400-1786014000@www.thebajaponyexpress.com
SUMMARY:Al-Anon Family Groups Meeting-Spa Buenavista Vista
DESCRIPTION:Friends and family of alcoholics.  Link to map
URL:https://www.thebajaponyexpress.com/wp/event/al-anon-family-groups-meeting-spa-buenavista-vista/2026-08-06/
CATEGORIES:BPE Calendar
ATTACH;FMTTYPE=image/jpeg:https://www.thebajaponyexpress.com/wp/wp-content/uploads/2026/03/IMG_0013-1.jpeg
END:VEVENT
BEGIN:VEVENT
DTSTART;TZID=America/Phoenix:20260813T100000
DTEND;TZID=America/Phoenix:20260813T110000
DTSTAMP:20260420T045200
CREATED:20260305T195013Z
LAST-MODIFIED:20260306T155605Z
UID:10004710-1786615200-1786618800@www.thebajaponyexpress.com
SUMMARY:Al-Anon Family Groups Meeting-Spa Buenavista Vista
DESCRIPTION:Friends and family of alcoholics.  Link to map
URL:https://www.thebajaponyexpress.com/wp/event/al-anon-family-groups-meeting-spa-buenavista-vista/2026-08-13/
CATEGORIES:BPE Calendar
ATTACH;FMTTYPE=image/jpeg:https://www.thebajaponyexpress.com/wp/wp-content/uploads/2026/03/IMG_0013-1.jpeg
END:VEVENT
BEGIN:VEVENT
DTSTART;TZID=America/Phoenix:20260820T100000
DTEND;TZID=America/Phoenix:20260820T110000
DTSTAMP:20260420T045200
CREATED:20260305T195013Z
LAST-MODIFIED:20260306T155605Z
UID:10004711-1787220000-1787223600@www.thebajaponyexpress.com
SUMMARY:Al-Anon Family Groups Meeting-Spa Buenavista Vista
DESCRIPTION:Friends and family of alcoholics.  Link to map
URL:https://www.thebajaponyexpress.com/wp/event/al-anon-family-groups-meeting-spa-buenavista-vista/2026-08-20/
CATEGORIES:BPE Calendar
ATTACH;FMTTYPE=image/jpeg:https://www.thebajaponyexpress.com/wp/wp-content/uploads/2026/03/IMG_0013-1.jpeg
END:VEVENT
BEGIN:VEVENT
DTSTART;TZID=America/Phoenix:20260827T100000
DTEND;TZID=America/Phoenix:20260827T110000
DTSTAMP:20260420T045200
CREATED:20260305T195013Z
LAST-MODIFIED:20260306T155605Z
UID:10004712-1787824800-1787828400@www.thebajaponyexpress.com
SUMMARY:Al-Anon Family Groups Meeting-Spa Buenavista Vista
DESCRIPTION:Friends and family of alcoholics.  Link to map
URL:https://www.thebajaponyexpress.com/wp/event/al-anon-family-groups-meeting-spa-buenavista-vista/2026-08-27/
CATEGORIES:BPE Calendar
ATTACH;FMTTYPE=image/jpeg:https://www.thebajaponyexpress.com/wp/wp-content/uploads/2026/03/IMG_0013-1.jpeg
END:VEVENT
BEGIN:VEVENT
DTSTART;TZID=America/Phoenix:20260903T100000
DTEND;TZID=America/Phoenix:20260903T110000
DTSTAMP:20260420T045200
CREATED:20260305T195013Z
LAST-MODIFIED:20260306T155605Z
UID:10004713-1788429600-1788433200@www.thebajaponyexpress.com
SUMMARY:Al-Anon Family Groups Meeting-Spa Buenavista Vista
DESCRIPTION:Friends and family of alcoholics.  Link to map
URL:https://www.thebajaponyexpress.com/wp/event/al-anon-family-groups-meeting-spa-buenavista-vista/2026-09-03/
CATEGORIES:BPE Calendar
ATTACH;FMTTYPE=image/jpeg:https://www.thebajaponyexpress.com/wp/wp-content/uploads/2026/03/IMG_0013-1.jpeg
END:VEVENT
BEGIN:VEVENT
DTSTART;TZID=America/Phoenix:20260910T100000
DTEND;TZID=America/Phoenix:20260910T110000
DTSTAMP:20260420T045200
CREATED:20260305T195013Z
LAST-MODIFIED:20260306T155605Z
UID:10004714-1789034400-1789038000@www.thebajaponyexpress.com
SUMMARY:Al-Anon Family Groups Meeting-Spa Buenavista Vista
DESCRIPTION:Friends and family of alcoholics.  Link to map
URL:https://www.thebajaponyexpress.com/wp/event/al-anon-family-groups-meeting-spa-buenavista-vista/2026-09-10/
CATEGORIES:BPE Calendar
ATTACH;FMTTYPE=image/jpeg:https://www.thebajaponyexpress.com/wp/wp-content/uploads/2026/03/IMG_0013-1.jpeg
END:VEVENT
BEGIN:VEVENT
DTSTART;TZID=America/Phoenix:20260917T100000
DTEND;TZID=America/Phoenix:20260917T110000
DTSTAMP:20260420T045200
CREATED:20260305T195013Z
LAST-MODIFIED:20260306T155605Z
UID:10004715-1789639200-1789642800@www.thebajaponyexpress.com
SUMMARY:Al-Anon Family Groups Meeting-Spa Buenavista Vista
DESCRIPTION:Friends and family of alcoholics.  Link to map
URL:https://www.thebajaponyexpress.com/wp/event/al-anon-family-groups-meeting-spa-buenavista-vista/2026-09-17/
CATEGORIES:BPE Calendar
ATTACH;FMTTYPE=image/jpeg:https://www.thebajaponyexpress.com/wp/wp-content/uploads/2026/03/IMG_0013-1.jpeg
END:VEVENT
BEGIN:VEVENT
DTSTART;TZID=America/Phoenix:20260924T100000
DTEND;TZID=America/Phoenix:20260924T110000
DTSTAMP:20260420T045200
CREATED:20260305T195013Z
LAST-MODIFIED:20260306T155605Z
UID:10004716-1790244000-1790247600@www.thebajaponyexpress.com
SUMMARY:Al-Anon Family Groups Meeting-Spa Buenavista Vista
DESCRIPTION:Friends and family of alcoholics.  Link to map
URL:https://www.thebajaponyexpress.com/wp/event/al-anon-family-groups-meeting-spa-buenavista-vista/2026-09-24/
CATEGORIES:BPE Calendar
ATTACH;FMTTYPE=image/jpeg:https://www.thebajaponyexpress.com/wp/wp-content/uploads/2026/03/IMG_0013-1.jpeg
END:VEVENT
BEGIN:VEVENT
DTSTART;TZID=America/Phoenix:20261001T100000
DTEND;TZID=America/Phoenix:20261001T110000
DTSTAMP:20260420T045200
CREATED:20260305T195013Z
LAST-MODIFIED:20260306T155605Z
UID:10004717-1790848800-1790852400@www.thebajaponyexpress.com
SUMMARY:Al-Anon Family Groups Meeting-Spa Buenavista Vista
DESCRIPTION:Friends and family of alcoholics.  Link to map
URL:https://www.thebajaponyexpress.com/wp/event/al-anon-family-groups-meeting-spa-buenavista-vista/2026-10-01/
CATEGORIES:BPE Calendar
ATTACH;FMTTYPE=image/jpeg:https://www.thebajaponyexpress.com/wp/wp-content/uploads/2026/03/IMG_0013-1.jpeg
END:VEVENT
BEGIN:VEVENT
DTSTART;TZID=America/Phoenix:20261008T100000
DTEND;TZID=America/Phoenix:20261008T110000
DTSTAMP:20260420T045200
CREATED:20260305T195013Z
LAST-MODIFIED:20260306T155605Z
UID:10004718-1791453600-1791457200@www.thebajaponyexpress.com
SUMMARY:Al-Anon Family Groups Meeting-Spa Buenavista Vista
DESCRIPTION:Friends and family of alcoholics.  Link to map
URL:https://www.thebajaponyexpress.com/wp/event/al-anon-family-groups-meeting-spa-buenavista-vista/2026-10-08/
CATEGORIES:BPE Calendar
ATTACH;FMTTYPE=image/jpeg:https://www.thebajaponyexpress.com/wp/wp-content/uploads/2026/03/IMG_0013-1.jpeg
END:VEVENT
BEGIN:VEVENT
DTSTART;TZID=America/Phoenix:20261015T100000
DTEND;TZID=America/Phoenix:20261015T110000
DTSTAMP:20260420T045200
CREATED:20260305T195013Z
LAST-MODIFIED:20260306T155605Z
UID:10004719-1792058400-1792062000@www.thebajaponyexpress.com
SUMMARY:Al-Anon Family Groups Meeting-Spa Buenavista Vista
DESCRIPTION:Friends and family of alcoholics.  Link to map
URL:https://www.thebajaponyexpress.com/wp/event/al-anon-family-groups-meeting-spa-buenavista-vista/2026-10-15/
CATEGORIES:BPE Calendar
ATTACH;FMTTYPE=image/jpeg:https://www.thebajaponyexpress.com/wp/wp-content/uploads/2026/03/IMG_0013-1.jpeg
END:VEVENT
BEGIN:VEVENT
DTSTART;TZID=America/Phoenix:20261022T100000
DTEND;TZID=America/Phoenix:20261022T110000
DTSTAMP:20260420T045200
CREATED:20260305T195013Z
LAST-MODIFIED:20260306T155605Z
UID:10004720-1792663200-1792666800@www.thebajaponyexpress.com
SUMMARY:Al-Anon Family Groups Meeting-Spa Buenavista Vista
DESCRIPTION:Friends and family of alcoholics.  Link to map
URL:https://www.thebajaponyexpress.com/wp/event/al-anon-family-groups-meeting-spa-buenavista-vista/2026-10-22/
CATEGORIES:BPE Calendar
ATTACH;FMTTYPE=image/jpeg:https://www.thebajaponyexpress.com/wp/wp-content/uploads/2026/03/IMG_0013-1.jpeg
END:VEVENT
BEGIN:VEVENT
DTSTART;TZID=America/Phoenix:20261029T100000
DTEND;TZID=America/Phoenix:20261029T110000
DTSTAMP:20260420T045200
CREATED:20260305T195013Z
LAST-MODIFIED:20260306T155605Z
UID:10004721-1793268000-1793271600@www.thebajaponyexpress.com
SUMMARY:Al-Anon Family Groups Meeting-Spa Buenavista Vista
DESCRIPTION:Friends and family of alcoholics.  Link to map
URL:https://www.thebajaponyexpress.com/wp/event/al-anon-family-groups-meeting-spa-buenavista-vista/2026-10-29/
CATEGORIES:BPE Calendar
ATTACH;FMTTYPE=image/jpeg:https://www.thebajaponyexpress.com/wp/wp-content/uploads/2026/03/IMG_0013-1.jpeg
END:VEVENT
BEGIN:VEVENT
DTSTART;TZID=America/Phoenix:20261105T100000
DTEND;TZID=America/Phoenix:20261105T110000
DTSTAMP:20260420T045200
CREATED:20260305T195013Z
LAST-MODIFIED:20260306T155605Z
UID:10004722-1793872800-1793876400@www.thebajaponyexpress.com
SUMMARY:Al-Anon Family Groups Meeting-Spa Buenavista Vista
DESCRIPTION:Friends and family of alcoholics.  Link to map
URL:https://www.thebajaponyexpress.com/wp/event/al-anon-family-groups-meeting-spa-buenavista-vista/2026-11-05/
CATEGORIES:BPE Calendar
ATTACH;FMTTYPE=image/jpeg:https://www.thebajaponyexpress.com/wp/wp-content/uploads/2026/03/IMG_0013-1.jpeg
END:VEVENT
BEGIN:VEVENT
DTSTART;TZID=America/Phoenix:20261112T100000
DTEND;TZID=America/Phoenix:20261112T110000
DTSTAMP:20260420T045200
CREATED:20260305T195013Z
LAST-MODIFIED:20260306T155605Z
UID:10004723-1794477600-1794481200@www.thebajaponyexpress.com
SUMMARY:Al-Anon Family Groups Meeting-Spa Buenavista Vista
DESCRIPTION:Friends and family of alcoholics.  Link to map
URL:https://www.thebajaponyexpress.com/wp/event/al-anon-family-groups-meeting-spa-buenavista-vista/2026-11-12/
CATEGORIES:BPE Calendar
ATTACH;FMTTYPE=image/jpeg:https://www.thebajaponyexpress.com/wp/wp-content/uploads/2026/03/IMG_0013-1.jpeg
END:VEVENT
END:VCALENDAR