BEGIN:VCALENDAR
VERSION:2.0
PRODID:-//Welcome to the Baja Pony Express - ECPv6.15.20//NONSGML v1.0//EN
CALSCALE:GREGORIAN
METHOD:PUBLISH
X-ORIGINAL-URL:https://www.thebajaponyexpress.com/wp
X-WR-CALDESC:Events for Welcome to the Baja Pony Express
REFRESH-INTERVAL;VALUE=DURATION:PT1H
X-Robots-Tag:noindex
X-PUBLISHED-TTL:PT1H
BEGIN:VTIMEZONE
TZID:America/Phoenix
BEGIN:STANDARD
TZOFFSETFROM:-0700
TZOFFSETTO:-0700
TZNAME:MST
DTSTART:20300101T000000
END:STANDARD
END:VTIMEZONE
BEGIN:VEVENT
DTSTART;TZID=America/Phoenix:20310402T093000
DTEND;TZID=America/Phoenix:20310402T103000
DTSTAMP:20260425T074319
CREATED:20250920T001335Z
LAST-MODIFIED:20251017T130036Z
UID:10004892-1932888600-1932892200@www.thebajaponyexpress.com
SUMMARY:Buff Barre Class at Barriles Wellness Center
DESCRIPTION:A group fitness class combining elements of ballet\, pilates\, HITT & strength training.
URL:https://www.thebajaponyexpress.com/wp/event/buff-barre-class-2/2031-04-02/
CATEGORIES:Health and Wellness
ATTACH;FMTTYPE=image/jpeg:https://www.thebajaponyexpress.com/wp/wp-content/uploads/2025/10/buff-barre-e1760551061553.jpg
END:VEVENT
BEGIN:VEVENT
DTSTART;TZID=America/Phoenix:20310404T090000
DTEND;TZID=America/Phoenix:20310404T110000
DTSTAMP:20260425T074319
CREATED:20250923T225356Z
LAST-MODIFIED:20250923T225356Z
UID:10004893-1933059600-1933066800@www.thebajaponyexpress.com
SUMMARY:The Bookstore
DESCRIPTION:The Bookstore is open\, we are loaded with good books and puzzles. We are in the Storage facility north of the Repsol station directly across from El Arco hardware
URL:https://www.thebajaponyexpress.com/wp/event/the-bookstore-4/2031-04-04/
CATEGORIES:BPE Calendar
END:VEVENT
BEGIN:VEVENT
DTSTART;TZID=America/Phoenix:20310409T093000
DTEND;TZID=America/Phoenix:20310409T103000
DTSTAMP:20260425T074319
CREATED:20250920T001335Z
LAST-MODIFIED:20251017T130036Z
UID:10004898-1933493400-1933497000@www.thebajaponyexpress.com
SUMMARY:Buff Barre Class at Barriles Wellness Center
DESCRIPTION:A group fitness class combining elements of ballet\, pilates\, HITT & strength training.
URL:https://www.thebajaponyexpress.com/wp/event/buff-barre-class-2/2031-04-09/
CATEGORIES:Health and Wellness
ATTACH;FMTTYPE=image/jpeg:https://www.thebajaponyexpress.com/wp/wp-content/uploads/2025/10/buff-barre-e1760551061553.jpg
END:VEVENT
BEGIN:VEVENT
DTSTART;TZID=America/Phoenix:20310416T093000
DTEND;TZID=America/Phoenix:20310416T103000
DTSTAMP:20260425T074319
CREATED:20250920T001335Z
LAST-MODIFIED:20251017T130036Z
UID:10004901-1934098200-1934101800@www.thebajaponyexpress.com
SUMMARY:Buff Barre Class at Barriles Wellness Center
DESCRIPTION:A group fitness class combining elements of ballet\, pilates\, HITT & strength training.
URL:https://www.thebajaponyexpress.com/wp/event/buff-barre-class-2/2031-04-16/
CATEGORIES:Health and Wellness
ATTACH;FMTTYPE=image/jpeg:https://www.thebajaponyexpress.com/wp/wp-content/uploads/2025/10/buff-barre-e1760551061553.jpg
END:VEVENT
BEGIN:VEVENT
DTSTART;TZID=America/Phoenix:20310418T090000
DTEND;TZID=America/Phoenix:20310418T110000
DTSTAMP:20260425T074319
CREATED:20251022T013524Z
LAST-MODIFIED:20251022T013524Z
UID:10004904-1934269200-1934276400@www.thebajaponyexpress.com
SUMMARY:The Bookstore
DESCRIPTION:The Bookstore is open\, we are loaded with good books and puzzles. We are in the Storage facility north of the Repsol station directly across from El Arco hardware
URL:https://www.thebajaponyexpress.com/wp/event/the-bookstore-4/2031-04-18/
CATEGORIES:BPE Calendar
END:VEVENT
END:VCALENDAR